BEGIN:VCALENDAR
VERSION:2.0
PRODID:-//Downtown New Orleans - ECPv6.8.2.1//NONSGML v1.0//EN
CALSCALE:GREGORIAN
METHOD:PUBLISH
X-ORIGINAL-URL:https://downtownnola.com
X-WR-CALDESC:Events for Downtown New Orleans
REFRESH-INTERVAL;VALUE=DURATION:PT1H
X-Robots-Tag:noindex
X-PUBLISHED-TTL:PT1H
BEGIN:VTIMEZONE
TZID:America/Chicago
BEGIN:DAYLIGHT
TZOFFSETFROM:-0600
TZOFFSETTO:-0500
TZNAME:CDT
DTSTART:20230312T080000
END:DAYLIGHT
BEGIN:STANDARD
TZOFFSETFROM:-0500
TZOFFSETTO:-0600
TZNAME:CST
DTSTART:20231105T070000
END:STANDARD
END:VTIMEZONE
BEGIN:VEVENT
DTSTART;TZID=America/Chicago:20231128T170000
DTEND;TZID=America/Chicago:20231128T170000
DTSTAMP:20260421T034818
CREATED:20231116T184309Z
LAST-MODIFIED:20231116T184309Z
UID:10000424-1701190800-1701190800@downtownnola.com
SUMMARY:Roosevelt New Orleans Lobby Lighting
DESCRIPTION:The Roosevelt New Orleans\, A Waldorf Astoria Hotel\, will once again capture the essence of the holidays with the long-awaited lighting of the Waldorf Wonderland in the hotel’s lobby. Sparing no effort\, the hotel’s city block-long holiday display is set to feature hundreds of thousands of lights and festive bows and garlands creating an impressive display of classic favorites. 
URL:https://downtownnola.com/event/roosevelt-new-orleans-lobby-lighting/
LOCATION:The Roosevelt New Orleans\, 130 Roosevelt Way\, New Orleans\, LA\, 70112\, United States
ATTACH;FMTTYPE=image/png:https://downtownnola.com/wp-content/uploads/2023/11/Roosevelt-Lobby-Lighting-Holiday-Page.png
END:VEVENT
END:VCALENDAR