BEGIN:VCALENDAR
VERSION:2.0
PRODID:-//Downtown New Orleans - ECPv6.8.2.1//NONSGML v1.0//EN
CALSCALE:GREGORIAN
METHOD:PUBLISH
X-WR-CALNAME:Downtown New Orleans
X-ORIGINAL-URL:https://downtownnola.com
X-WR-CALDESC:Events for Downtown New Orleans
REFRESH-INTERVAL;VALUE=DURATION:PT1H
X-Robots-Tag:noindex
X-PUBLISHED-TTL:PT1H
BEGIN:VTIMEZONE
TZID:America/Chicago
BEGIN:DAYLIGHT
TZOFFSETFROM:-0600
TZOFFSETTO:-0500
TZNAME:CDT
DTSTART:20230312T080000
END:DAYLIGHT
BEGIN:STANDARD
TZOFFSETFROM:-0500
TZOFFSETTO:-0600
TZNAME:CST
DTSTART:20231105T070000
END:STANDARD
END:VTIMEZONE
BEGIN:VEVENT
DTSTART;TZID=America/Chicago:20231121T110000
DTEND;TZID=America/Chicago:20231121T110000
DTSTAMP:20260419T124551
CREATED:20231116T181233Z
LAST-MODIFIED:20231116T181429Z
UID:10000493-1700564400-1700564400@downtownnola.com
SUMMARY:Ritz-Carlton Holiday Ribbon Cutting Reception
DESCRIPTION:The Ritz-Carlton gets their festivities started with the unveiling of their elaborate holiday decorations and a reception in their third-floor lobby. Guests are invited to stop by\, enjoy holiday refreshments and appearances by Papa Noel and the Victory Belles.
URL:https://downtownnola.com/event/ritz-carlton-holiday-ribbon-cutting-reception/
LOCATION:The Ritz-Carlton\, New Orleans\, 921 Canal Street\, New Orleans\, LA\, 70112\, United States
ATTACH;FMTTYPE=image/png:https://downtownnola.com/wp-content/uploads/2023/11/Ritz-Carlton-Ribbon-Cutting-Holiday-Page-.png
END:VEVENT
BEGIN:VEVENT
DTSTART;TZID=America/Chicago:20231121T160000
DTEND;TZID=America/Chicago:20231121T180000
DTSTAMP:20260419T124551
CREATED:20231116T174947Z
LAST-MODIFIED:20231116T183239Z
UID:10000486-1700582400-1700589600@downtownnola.com
SUMMARY:Lighting of Canal Street
DESCRIPTION:The Downtown Development District— along with Santa\, city officials\, and Downtown business leaders— invites everyone to join us at Canal Place (333 Canal Street) as we officially kick off the holiday season with the Lighting of Canal Street. The lights will officially turn on at 5:30PM.
URL:https://downtownnola.com/event/lighting-of-canal-street/
LOCATION:Canal Place Plaza | Entrance at foot of Canal Street\, 333 Canal Street\, New Orleans\, LA\, 70130\, United States
ATTACH;FMTTYPE=image/png:https://downtownnola.com/wp-content/uploads/2023/11/Lighting-of-Canal-Street-Holiday-Page-1.png
END:VEVENT
BEGIN:VEVENT
DTSTART;TZID=America/Chicago:20231121T163000
DTEND;TZID=America/Chicago:20231121T183000
DTSTAMP:20260419T124551
CREATED:20231116T181717Z
LAST-MODIFIED:20231116T181717Z
UID:10000494-1700584200-1700591400@downtownnola.com
SUMMARY:Riverwalk Christmas Tree Lighting Ceremony
DESCRIPTION:Join Riverwalk Outlets for the annual Christmas tree lighting ceremony at Spanish Plaza. Witness the illumination of a beautifully decorated 30-foot tree and celebrate the start of the holiday season with music\, beignets from Café Du Monde and an appearance from special holiday guests. In partnership with the Downtown Development District\, this event will culminate in lighting all of Downtown New Orleans.
URL:https://downtownnola.com/event/riverwalk-christmas-tree-lighting-ceremony/
LOCATION:Riverwalk Outlets\, 500 Port of New Orleans PL.\, New Orleans\, LA\, 70130\, United States
ATTACH;FMTTYPE=image/png:https://downtownnola.com/wp-content/uploads/2023/11/Riverwalk-Outlet-Tree-Lighting-Holiday-Page.png
END:VEVENT
END:VCALENDAR